BEGIN:VCALENDAR
VERSION:2.0
PRODID:-//Squarespace Inc/Squarespace 6//v6//EN
BEGIN:VEVENT
UID:6018919aadd826333d4cafc1@squarespace.com
DTSTAMP:20210202T001353Z
DTSTART:20210214T010000Z
DTEND:20210214T110000Z
SUMMARY:Valentine's Day
GEO:40.720756;-74.000761
LOCATION:Sugarlane\, The Canopy\, 4/2 Rosenthal Ave\, Lane Cove\, NSW 2066\
 , Australia
END:VEVENT
END:VCALENDAR
