BEGIN:VCALENDAR
VERSION:2.0
PRODID:-//Squarespace Inc/Squarespace 6//v6//EN
BEGIN:VEVENT
UID:5fdc03a56350d1507c19a364@squarespace.com
DTSTAMP:20201218T014047Z
DTSTART:20201231T063000Z
DTEND:20201231T123000Z
SUMMARY:New Year's Eve
GEO:40.720756;-74.000761
LOCATION:Sugarlane\, The Canopy\, 4/2 Rosenthal Ave\, Lane Cove\, NSW 2066\
 , Australia
END:VEVENT
END:VCALENDAR
